BEGIN:VCALENDAR
VERSION:2.0
PRODID:-//Kamora&#039;s Cultural Corner - ECPv6.15.20//NONSGML v1.0//EN
CALSCALE:GREGORIAN
METHOD:PUBLISH
X-ORIGINAL-URL:https://kamorasculturalcorner.com
X-WR-CALDESC:Events for Kamora&#039;s Cultural Corner
REFRESH-INTERVAL;VALUE=DURATION:PT1H
X-Robots-Tag:noindex
X-PUBLISHED-TTL:PT1H
BEGIN:VTIMEZONE
TZID:America/New_York
BEGIN:DAYLIGHT
TZOFFSETFROM:-0500
TZOFFSETTO:-0400
TZNAME:EDT
DTSTART:20250309T070000
END:DAYLIGHT
BEGIN:STANDARD
TZOFFSETFROM:-0400
TZOFFSETTO:-0500
TZNAME:EST
DTSTART:20251102T060000
END:STANDARD
BEGIN:DAYLIGHT
TZOFFSETFROM:-0500
TZOFFSETTO:-0400
TZNAME:EDT
DTSTART:20260308T070000
END:DAYLIGHT
BEGIN:STANDARD
TZOFFSETFROM:-0400
TZOFFSETTO:-0500
TZNAME:EST
DTSTART:20261101T060000
END:STANDARD
BEGIN:DAYLIGHT
TZOFFSETFROM:-0500
TZOFFSETTO:-0400
TZNAME:EDT
DTSTART:20270314T070000
END:DAYLIGHT
BEGIN:STANDARD
TZOFFSETFROM:-0400
TZOFFSETTO:-0500
TZNAME:EST
DTSTART:20271107T060000
END:STANDARD
END:VTIMEZONE
BEGIN:VEVENT
DTSTART;TZID=America/New_York:20260221T160000
DTEND;TZID=America/New_York:20260221T200000
DTSTAMP:20260423T203000
CREATED:20260201T230315Z
LAST-MODIFIED:20260212T020916Z
UID:1192-1771689600-1771704000@kamorasculturalcorner.com
SUMMARY:Feb 2026 Thinking and Doing
DESCRIPTION:***Please note the time change:  4-8pm***\nPersonal labyrinth building and community conversation on how we maintain ourselves while continuing to grow together. \n\n\n\n\nThis is our FIRST Thinking and Doing Day of 2026! \nWe will be meeting at First Presbyterian Church in Hartford at 136 Capital Avenue\, and look forward to conversations\, crafts\, education\, and connections. \n\nTickets are free – please sign up here so we know to expect you!
URL:https://kamorasculturalcorner.com/event/feb-2026-thinking-and-doing/
LOCATION:First Presbyterian Church\, 136 Capital Avenue\, Hartford\, CT\, 06106\, United States
END:VEVENT
BEGIN:VEVENT
DTSTART;TZID=America/New_York:20260418T130000
DTEND;TZID=America/New_York:20260418T170000
DTSTAMP:20260423T203000
CREATED:20260314T011659Z
LAST-MODIFIED:20260314T011659Z
UID:1213-1776517200-1776531600@kamorasculturalcorner.com
SUMMARY:April 2026 Thinking and Doing Day
DESCRIPTION:Prepare the sanctuary for the season: gardens\, labyrinth\, gazebo\, food access\, and (re)connecting with each other and the land! \n\n\n\n\nThis will be our first Thinking and Doing Day back at The Land! \nSaturday\, April 18\, 2026  1:00pm – 5:00pm
URL:https://kamorasculturalcorner.com/event/april-2026-thinking-and-doing-day/
LOCATION:Sterling Street Sanctuary and Nature Reserve\, 75 Sterling Street\, Hartford\, CT\, 06112\, United States
END:VEVENT
BEGIN:VEVENT
DTSTART;TZID=America/New_York:20260620T160000
DTEND;TZID=America/New_York:20260620T200000
DTSTAMP:20260423T203000
CREATED:20260317T020132Z
LAST-MODIFIED:20260317T020132Z
UID:1276-1781971200-1781985600@kamorasculturalcorner.com
SUMMARY:June 2026 Thinking and Doing Day
DESCRIPTION:This is our month! Juneteenth AND PRIDE AND our 1st Official camp-out of the season! \n\n\n\n\nCreate suncatchers and stepping stones\, plant flowers and celebrate liberation\, and gather in community with food\, reflection\, and rest.
URL:https://kamorasculturalcorner.com/event/june-2026-thinking-and-doing-day/
LOCATION:Sterling Street Sanctuary and Nature Reserve\, 75 Sterling Street\, Hartford\, CT\, 06112\, United States
END:VEVENT
END:VCALENDAR