BEGIN:VCALENDAR
VERSION:2.0
PRODID:-//Kamora&#039;s Cultural Corner - ECPv6.15.20//NONSGML v1.0//EN
CALSCALE:GREGORIAN
METHOD:PUBLISH
X-WR-CALNAME:Kamora&#039;s Cultural Corner
X-ORIGINAL-URL:https://kamorasculturalcorner.com
X-WR-CALDESC:Events for Kamora&#039;s Cultural Corner
REFRESH-INTERVAL;VALUE=DURATION:PT1H
X-Robots-Tag:noindex
X-PUBLISHED-TTL:PT1H
BEGIN:VTIMEZONE
TZID:America/New_York
BEGIN:DAYLIGHT
TZOFFSETFROM:-0500
TZOFFSETTO:-0400
TZNAME:EDT
DTSTART:20240310T070000
END:DAYLIGHT
BEGIN:STANDARD
TZOFFSETFROM:-0400
TZOFFSETTO:-0500
TZNAME:EST
DTSTART:20241103T060000
END:STANDARD
BEGIN:DAYLIGHT
TZOFFSETFROM:-0500
TZOFFSETTO:-0400
TZNAME:EDT
DTSTART:20250309T070000
END:DAYLIGHT
BEGIN:STANDARD
TZOFFSETFROM:-0400
TZOFFSETTO:-0500
TZNAME:EST
DTSTART:20251102T060000
END:STANDARD
BEGIN:DAYLIGHT
TZOFFSETFROM:-0500
TZOFFSETTO:-0400
TZNAME:EDT
DTSTART:20260308T070000
END:DAYLIGHT
BEGIN:STANDARD
TZOFFSETFROM:-0400
TZOFFSETTO:-0500
TZNAME:EST
DTSTART:20261101T060000
END:STANDARD
END:VTIMEZONE
BEGIN:VEVENT
DTSTART;TZID=America/New_York:20250816T150000
DTEND;TZID=America/New_York:20250816T190000
DTSTAMP:20260424T032929
CREATED:20250619T202646Z
LAST-MODIFIED:20250619T203403Z
UID:1153-1755356400-1755370800@kamorasculturalcorner.com
SUMMARY:Individual Gifts and Privileges
DESCRIPTION:Come join us for a day of thinking and doing at the beautiful Sterling Street Sanctuary and Nature Reserve. This in-person event is perfect for those looking to engage in creative activities and inspiring discussions. Don’t miss out on this opportunity to connect with like-minded individuals and nature in a serene setting. At Kamora’s Cultural Corner\, we believe that cultural humility begins with self-reflection—and that journey starts by recognizing and honoring our unique gifts and privileges embodies our core ethos:. Our August Thinking and Doing Day invites community members to show up fully\, share what they have\, and engage in intentional\, reciprocal exchange. Together\, we’ll explore how our individual resources—both tangible and intangible—can be used in service to one another. Give to Receive. Receive Then Give Back. \nLet us know you’re coming!
URL:https://kamorasculturalcorner.com/event/individual-gifts-and-privileges-2025/
LOCATION:Sterling Street Sanctuary and Nature Reserve\, 75 Sterling Street\, Hartford\, CT\, 06112\, United States
END:VEVENT
END:VCALENDAR