BEGIN:VCALENDAR
VERSION:2.0
PRODID:-//Kamora&#039;s Cultural Corner - ECPv6.15.20//NONSGML v1.0//EN
CALSCALE:GREGORIAN
METHOD:PUBLISH
X-WR-CALNAME:Kamora&#039;s Cultural Corner
X-ORIGINAL-URL:https://kamorasculturalcorner.com
X-WR-CALDESC:Events for Kamora&#039;s Cultural Corner
REFRESH-INTERVAL;VALUE=DURATION:PT1H
X-Robots-Tag:noindex
X-PUBLISHED-TTL:PT1H
BEGIN:VTIMEZONE
TZID:America/New_York
BEGIN:DAYLIGHT
TZOFFSETFROM:-0500
TZOFFSETTO:-0400
TZNAME:EDT
DTSTART:20240310T070000
END:DAYLIGHT
BEGIN:STANDARD
TZOFFSETFROM:-0400
TZOFFSETTO:-0500
TZNAME:EST
DTSTART:20241103T060000
END:STANDARD
BEGIN:DAYLIGHT
TZOFFSETFROM:-0500
TZOFFSETTO:-0400
TZNAME:EDT
DTSTART:20250309T070000
END:DAYLIGHT
BEGIN:STANDARD
TZOFFSETFROM:-0400
TZOFFSETTO:-0500
TZNAME:EST
DTSTART:20251102T060000
END:STANDARD
BEGIN:DAYLIGHT
TZOFFSETFROM:-0500
TZOFFSETTO:-0400
TZNAME:EDT
DTSTART:20260308T070000
END:DAYLIGHT
BEGIN:STANDARD
TZOFFSETFROM:-0400
TZOFFSETTO:-0500
TZNAME:EST
DTSTART:20261101T060000
END:STANDARD
END:VTIMEZONE
BEGIN:VEVENT
DTSTART;TZID=America/New_York:20251227T130000
DTEND;TZID=America/New_York:20251227T170000
DTSTAMP:20260423T220713
CREATED:20250619T203850Z
LAST-MODIFIED:20251222T015022Z
UID:1161-1766840400-1766854800@kamorasculturalcorner.com
SUMMARY:Kwanzaa Celebration
DESCRIPTION:**LOCATION CHANGE**\nJoin us on December 27\, 2025 for our annual celebration of Kujichagulia (self-determination) at First Presbyterian Church\, 136 Capital Avenue\, Hartford. \nLiving the Nguzo Saba\nAs always\, our Kwanzaa gathering is not just a celebration\, but a practice. We will be grounding ourselves in the Nguzo Saba and spending time reflecting on how we embody these principles all year long\, not just for seven days. \nWe’re also honored to have David Jackson\, Healing Artist with Black Art Heals\, joining us to live paint and interpret the gathering in real time. I’m especially excited to see how he captures our conversations\, shared objects\, and collective energy. \nImportant Registration Reminder\nIf you have not yet registered\, please do so as soon as possible. Chef Jay will be catering\, and we need to finalize dinner numbers immediately to ensure we have enough food for everyone. Registering now helps us honor his labor and plan well. \nRegister Here Today!\nCrafting\, Creating & Sharing\nThis will be a participatory gathering\, and a laid back and chill time to visit and create together so we invite you to bring your creativity with you. If you have craft projects you’d like to work on or share\, please bring them. We will have crafting time to create for ourselves and/or to make Kwanzaa gifts. \nIf you have something you’d like to add to our Kwanzaa table; an object\, book\, stone etc.\, you are warmly encouraged to bring it\, or make something with while you’re here and add it then. \nWe are so looking forward to being together in this new space and hope you can join us! \nFirst Presbyterian Church\n136 Capital Avenue\, Hartford\, CT
URL:https://kamorasculturalcorner.com/event/kwanzaa-celebration/
LOCATION:First Presbyterian Church\, 136 Capital Avenue\, Hartford\, CT\, 06106\, United States
END:VEVENT
END:VCALENDAR