BEGIN:VCALENDAR
VERSION:2.0
PRODID:-//Kamora&#039;s Cultural Corner - ECPv6.15.20//NONSGML v1.0//EN
CALSCALE:GREGORIAN
METHOD:PUBLISH
X-WR-CALNAME:Kamora&#039;s Cultural Corner
X-ORIGINAL-URL:https://kamorasculturalcorner.com
X-WR-CALDESC:Events for Kamora&#039;s Cultural Corner
REFRESH-INTERVAL;VALUE=DURATION:PT1H
X-Robots-Tag:noindex
X-PUBLISHED-TTL:PT1H
BEGIN:VTIMEZONE
TZID:America/New_York
BEGIN:DAYLIGHT
TZOFFSETFROM:-0500
TZOFFSETTO:-0400
TZNAME:EDT
DTSTART:20230312T070000
END:DAYLIGHT
BEGIN:STANDARD
TZOFFSETFROM:-0400
TZOFFSETTO:-0500
TZNAME:EST
DTSTART:20231105T060000
END:STANDARD
BEGIN:DAYLIGHT
TZOFFSETFROM:-0500
TZOFFSETTO:-0400
TZNAME:EDT
DTSTART:20240310T070000
END:DAYLIGHT
BEGIN:STANDARD
TZOFFSETFROM:-0400
TZOFFSETTO:-0500
TZNAME:EST
DTSTART:20241103T060000
END:STANDARD
BEGIN:DAYLIGHT
TZOFFSETFROM:-0500
TZOFFSETTO:-0400
TZNAME:EDT
DTSTART:20250309T070000
END:DAYLIGHT
BEGIN:STANDARD
TZOFFSETFROM:-0400
TZOFFSETTO:-0500
TZNAME:EST
DTSTART:20251102T060000
END:STANDARD
END:VTIMEZONE
BEGIN:VEVENT
DTSTART;TZID=America/New_York:20240225T130000
DTEND;TZID=America/New_York:20240225T170000
DTSTAMP:20260425T140146
CREATED:20240125T130044Z
LAST-MODIFIED:20240125T130044Z
UID:798-1708866000-1708880400@kamorasculturalcorner.com
SUMMARY:The Revolution is in the Pause: Contemplating (Our) Stories
DESCRIPTION:Join us at the Harriet Beecher Stowe Visitors Center for an afternoon of intergenerational conversation and contemplation. \nWe will engage with local author Alphonso McGriff III and his new book: \nWhen Young People Speak: 100 Questions for Ages 13 – 30 Questions are the keys that open doors to Self-Knowledge. The event will end with an open mic and community meal. \nSponsorship opportunities available. Please fill out the below form if you would like to support this event or the entire series. \n\n← Back Thank you for your response. ✨\n\n\n					\n						\n							\n							\n						\n						\n						\n						\n						\n							\n								\n									\n										\n										\n									\n									\n										\n										\n									\n								\n							\n						\n						\n							\n								\n									\n									\n										\n									\n									\n									\n								\n							\n						\n					\n				\n\n\n\nName(required)\n\n \n			\n				\n					\n						\n						\n						\n					\n				\n				\n			 \n	\n\n\nEmail(required)\n\n \n			\n				\n					\n						\n						\n						\n					\n				\n				\n			 \n	\n\n\nWebsite\n\n \n			\n				\n					\n						\n						\n						\n					\n				\n				\n			 \n	\n\n\nMessage\n\n \n			\n				\n					\n						\n						\n						\n					\n				\n				\n			\n	\n	\n\n				\n					\n				\n						Submit		\n		\n		\n	 \n\n\n 
URL:https://kamorasculturalcorner.com/event/the-revolution-is-in-the-pause-contemplating-our-stories/
LOCATION:Harriet Beecher Stowe Visitor Center\, 77 Forest Street\, Hartford\, CT\, 06105\, United States
ATTACH;FMTTYPE=image/jpeg:https://kamorasculturalcorner.com/wp-content/uploads/2024/01/building-better-tables-february-Thinking-and-Doing.jpg
END:VEVENT
END:VCALENDAR