BEGIN:VCALENDAR
VERSION:2.0
PRODID:-//Kamora&#039;s Cultural Corner - ECPv6.15.20//NONSGML v1.0//EN
CALSCALE:GREGORIAN
METHOD:PUBLISH
X-ORIGINAL-URL:https://kamorasculturalcorner.com
X-WR-CALDESC:Events for Kamora&#039;s Cultural Corner
REFRESH-INTERVAL;VALUE=DURATION:PT1H
X-Robots-Tag:noindex
X-PUBLISHED-TTL:PT1H
BEGIN:VTIMEZONE
TZID:UTC
BEGIN:STANDARD
TZOFFSETFROM:+0000
TZOFFSETTO:+0000
TZNAME:UTC
DTSTART:20230101T000000
END:STANDARD
END:VTIMEZONE
BEGIN:VEVENT
DTSTART;TZID=UTC:20240824T150000
DTEND;TZID=UTC:20240824T190000
DTSTAMP:20260425T035002
CREATED:20240215T003707Z
LAST-MODIFIED:20240816T103655Z
UID:814-1724511600-1724526000@kamorasculturalcorner.com
SUMMARY:August 24:  Individual Gifts and Privileges
DESCRIPTION:RESCHEDULED! \nJoin us for a late summer Thinking and Doing Day where herbalists will teach us how to use some of the herbs in the Labyrinth garden\, folks with ‘stuff’ to give away will join our FREE tag sale and food giveaway\, and we will support our local artists with a Black Art Heals Bazaar. \nOur community is a gloriously diverse group of humans with unique gifts and talents that we LOVE to share! August’s Thinking and Doing Day is our day to do that! \nThe event will be followed by a community meal and Soap Box Open Mic.
URL:https://kamorasculturalcorner.com/event/august-17-individual-gifts-and-privileges/
LOCATION:Sterling Street Sanctuary and Nature Reserve\, 75 Sterling Street\, Hartford\, CT\, 06112\, United States
END:VEVENT
END:VCALENDAR